BEGIN:VCALENDAR
VERSION:2.0
PRODID:-//Theater Immenried//NONSGML kigkonsult.se iCalcreator 2.41.92//
CALSCALE:GREGORIAN
METHOD:PUBLISH
UID:39656238-6466-4662-b630-616165303032
X-WR-CALNAME:iCagenda
X-WR-CALDESC:Event Management Extension for Joomla!
X-WR-RELCALID:3E26604A-50F4-4449-8B3E-E4F4932D05B5
X-WR-TIMEZONE:UTC
BEGIN:VTIMEZONE
TZID:UTC
END:VTIMEZONE
BEGIN:VEVENT
UID:30626431-6132-4261-b766-396433663939
DTSTAMP:20260420T084244Z
CATEGORIES:Kindertheater
CLASS:PUBLIC
DESCRIPTION;ALTREP="CID:<FFFF__=0ABBE548DFE235B58f9e8a93d@coffeebean.com>":
 Kindertheater - Unser jüngster Nachwuchs spielt für seine jüngsten Zuschau
 er.\nTermine\n\nFreitag\, 12.12.2025 um 18 Uhr | Einlass 17 Uhr\nSamstag\,
  13.12.2025 um 14 Uhr | Einlass 13 Uhr\nSonntag\, 14.12.2025 um 14 Uhr | E
 inlass 13 Uhr\n\nTipp: Freitags ist erfahrungsgemäß am wenigsten los. Sonn
 tags ist die Halle meistens recht voll.\nHinweise\n\nEintritt frei - keine
  Reservierung möglich bzw. nötig.\nDie Vorstellungen sind mit Selbstbedien
 ung bewirtet\nAnfahrt und parken: Nutzen Sie diesen Link zur Route auf Goo
 gle Maps. Wenn Sie Immenried ohne Navi finden\, biegen Sie an der Kirche i
 n der Ortsmitte Immenried aus Richtung Kißlegg kommend links\, aus Richtun
 g Arnach kommend rechts ab. Bitte parken Sie ordentlich und platzsparend u
 nd beachten Sie die Hinweise der Parkeinweiser.\n\nStückinfo\nzur Startsei
 te mit den Informationen zu 'Das Geheimnis der Sternewerkstatt'.
DTSTART:20231201T180000Z
DTEND:20231201T180000Z
GEO:+47.834785;+9.87497
LOCATION:Turn- und Festhalle Immenried
ORGANIZER:
SEQUENCE:1
SUMMARY:Kindertheater 2025: Das Geheimnis der Sternenwerkstatt
TRANSP:OPAQUE
URL:https://www.theater-immenried.de/reservierung/kindertheater/2023-12-01-
 18-00
END:VEVENT
END:VCALENDAR
