BEGIN:VCALENDAR
VERSION:2.0
PRODID:-//Theater Immenried//NONSGML kigkonsult.se iCalcreator 2.41.92//
CALSCALE:GREGORIAN
METHOD:PUBLISH
UID:35366261-3131-4263-b334-363964393763
X-WR-CALNAME:iCagenda
X-WR-CALDESC:Event Management Extension for Joomla!
X-WR-RELCALID:3E26604A-50F4-4449-8B3E-E4F4932D05B5
X-WR-TIMEZONE:UTC
BEGIN:VTIMEZONE
TZID:UTC
END:VTIMEZONE
BEGIN:VEVENT
UID:32643334-3339-4265-a639-643066353363
DTSTAMP:20260422T084021Z
CATEGORIES:Theater unter der Linde
CLASS:PUBLIC
DESCRIPTION;ALTREP="CID:<FFFF__=0ABBE548DFE235B58f9e8a93d@coffeebean.com>":
 &gt\;&gt\;&nbsp\;zur Stückbeschreibung von Romeo &amp\; Julia&nbsp\;&lt\;&
 lt\;\n\nBitte durchlesen: Reservierungshinweise\n\nEintritt: 9\,- €\, Alte
 rsempfehlung: ab 12 Jahre\nBeginn: 20 Uhr\, Einlass ab 19 Uhr&nbsp\;\nOnli
 ne-Reservierungen sind ab sofort hier online möglich. &gt\; Grüner Button 
 oben rechts 'Hier verbindlich reservieren'Falls Sie keine E-Mail haben\, a
 us anderen Gründen nicht online reservieren können oder sonst ein Anliegen
  haben welches nur telefonisch geklärt werden kann: Nutzen Sie bitte unser
  Rückruf-Formular.\nIhre Reservierung ist nur gültig\, wenn Sie umgehend n
 ach der Reservierung auch eine Reservierungsbestätigung per E-Mail erhalte
 n haben. Keine E-Mail erhalten? Überprüfen Sie bitte Ihren Spamordner. Evt
 l. haben Sie eine falsche E-Mail Adresse angegeben? Falls Sie unsicher sin
 d\, reservieren Sie gerne nochmal. Eine Doppelreservierung pro E-Mail und 
 Termin ist nicht möglich. Nach Bestätigung der Reservierungsbedingungen un
 d Klick auf den Button 'jetzt verbindlich resrevieren' folgt auch eine Bes
 tätigungsseite\, welche Sie bitte abwarten sollten. Sollte eine Fehlermeld
 ung kommen\, versuchen Sie es bitte einfach nocheinmal und geben Sie alle 
 Angaben wie angefordert ein.\nBitte holen Sie am Veranstaltungstag Ihre re
 servierten Karten bis spätestens 30 Minuten vor Veranstaltungsbeginn ab. A
 ndernfalls gehen die Sitzplätze zum Verkauf in die Abendkasse.\nEinzelne\,
  nicht reservierbare\, Tickets sind an der Abendkasse ab 19.00 Uhr erhältl
 ich. Rückläufer aus dem Vorverkauf erhalten Sie ab 19.30 Uhr.\nSie haben f
 reie Platzwahl bei der Veranstaltung. Es sind keine Reservierungen bestimm
 ter Plätze möglich!\nOpen-Air Veranstaltung: Wir empfehlen bei kühler Witt
 erung Sitzkissen und Decken mitzubringen.\n\n\n&gt\;&gt\;&nbsp\;zur Stückb
 eschreibung von Romeo &amp\; Julia&nbsp\;&lt\;&lt\;
DTSTART:20250730T200000Z
DTEND:20250730T230000Z
GEO:+47.834785;+9.87497
LOCATION:Schulhof Grundschule Immenried
ORGANIZER:
SEQUENCE:1
SUMMARY:Theater unter der Linde 2025: Romeo und Julia - Liebe\, Likes und L
 ügen
TRANSP:OPAQUE
URL:https://www.theater-immenried.de/reservierung/theater-unter-der-linde-t
 ermine
END:VEVENT
END:VCALENDAR
