BEGIN:VCALENDAR
VERSION:2.0
PRODID:-//Theater Immenried//NONSGML kigkonsult.se iCalcreator 2.41.92//
CALSCALE:GREGORIAN
METHOD:PUBLISH
UID:39386135-3233-4131-a162-363332363762
X-WR-CALNAME:iCagenda
X-WR-CALDESC:Event Management Extension for Joomla!
X-WR-RELCALID:3E26604A-50F4-4449-8B3E-E4F4932D05B5
X-WR-TIMEZONE:UTC
BEGIN:VTIMEZONE
TZID:UTC
END:VTIMEZONE
BEGIN:VEVENT
UID:65383832-6431-4139-b165-663837346230
DTSTAMP:20260420T084541Z
CATEGORIES:Wintertheater
CLASS:PUBLIC
DESCRIPTION;ALTREP="CID:<FFFF__=0ABBE548DFE235B58f9e8a93d@coffeebean.com>":
 Rund um unser Wintertheater zum Jahreswechsel 2026/27 wird es auch wieder 
 einen Silvesterball geben.\nInfos folgen im Laufe des Jahres 2026
DTSTART:20241231T180000Z
DTEND:20241231T180000Z
GEO:+47.834526;+9.874741
LOCATION:Turn- und Festhalle Immenried
ORGANIZER:
SEQUENCE:1
SUMMARY:Save the date - Silvesterball 2026/27 mit Theateraufführung 'Der Vo
 rname' Wintertheater 2026/27
TRANSP:OPAQUE
URL:https://www.theater-immenried.de/reservierung/wintertheater-silvesterba
 ll/2024-12-31-18-00
END:VEVENT
END:VCALENDAR
