BEGIN:VCALENDAR
VERSION:2.0
PRODID:-//Theater Immenried//NONSGML kigkonsult.se iCalcreator 2.41.92//
CALSCALE:GREGORIAN
METHOD:PUBLISH
UID:64353031-3739-4432-b331-643164386639
X-WR-CALNAME:iCagenda
X-WR-CALDESC:Event Management Extension for Joomla!
X-WR-RELCALID:3E26604A-50F4-4449-8B3E-E4F4932D05B5
X-WR-TIMEZONE:UTC
BEGIN:VTIMEZONE
TZID:UTC
END:VTIMEZONE
BEGIN:VEVENT
UID:31343737-3063-4363-b066-663138623937
DTSTAMP:20260420T084347Z
CATEGORIES:Wintertheater
CLASS:PUBLIC
DESCRIPTION;ALTREP="CID:<FFFF__=0ABBE548DFE235B58f9e8a93d@coffeebean.com>":
 Aufführungstermine im Dezember 2024: . Donnerstag 26.\, Freitag 27.\, Sams
 tag 28.\, Sonntag 29. und 31. Sonderveranstaltung Silvesterball (hier kein
 e Abendkasse - nur VVK &gt\;&gt\; zur Info &lt\;&lt\; )Aufführungstermine 
 im Januar 2025:&nbsp\; Donnerstag 2.\, Freitag 3.\, Samstag 4.\,\nEine Kom
 ödie nach dem gleichnamigen Film von Ralf Westhoff. Bühnenfassung von Jürg
 en Popig.Mit freundlicher Genehmigung vom Theater Ravensburg.\nAltersempfe
 hlung: ohne AltersbeschränkungEintritt: 10\,00 €Ende: ca. 23.00 UhrEinlass
  ab 19 UhrAbendkasse mit Einlass ab 19.00 Uhr\, Restkarten (Rückläufer Vor
 verkauf) gibt es ab 19.30 Uhr.\nBitte lesen! Reservierungs- und Abendkasse
 nhinweise:\n\nOnline-Reservierungen sind hier ab sofort. möglich (Grüner B
 utton oben rechts). Ihnen werden Plätze zugewiesen\, es gibt keine freie P
 latzwahl.\nFalls Sie keine E-Mail haben\, aus anderen Gründen nicht online
  reservieren können oder sonst ein Anliegen haben welches nur telefonisch 
 geklärt werden kann: Nutzen Sie bitte unser Rückruf-Formular.\nSie erhalte
 n bei Abholung der reservieren Karte eine zugewiesene Platznummer.\nBeacht
 en Sie bei der Onlinereservierung\, dass Sie nach dem Absenden eine Reserv
 ierungsbestätigung per E-Mail erhalten.\nBitte holen Sie am Veranstaltungs
 tag Ihre reservierten Karten bis spätestens 30 Minuten vor Veranstaltungsb
 eginn ab. Andernfalls gehen die Sitzplätze zum Verkauf in die Abendkasse.
 \nIhre Reservierung ist nur gültig\, wenn Sie auch eine Reservierungsbestä
 tigung per E-Mail erhalten haben. Diese wird vom System umgehend verschick
 t. Keine E-Mail erhalten? Überprüfen Sie bitte Ihren Spamordner. Evtl. hab
 en Sie eine falsche E-Mail Adresse angegeben? Falls Sie sich nicht sicher 
 sind ob die Reservierung geklappt hat\, können Sie auch nochmal versuchen 
 zu reservieren. Pro Veranstaltungstag könnnen Sie mit der selben E-Mail-Ad
 resse nur einmal reservieren. Eine Doppelreservierung ist so ausgeschlosse
 n.\nEinzelne\, nicht reservierbare\, Tickets sind an der Abendkasse ab 19.
 00 Uhr erhältlich.\nDer Silvesterball ist nicht reservierbar. Nur Tickets 
 im Vorverkauf. Wie Sie an Tickets gelangen\, erfahren Sie auf der Infoseit
 e Silvesterball.\n\nZum Stück\nDie drei Münchner Singles Anne\, Eddie und 
 Johannes\, alle im frühen Rentenalter angekommen\, beschließen\, auch aus 
 finanziellen Gründen\, ihre alte Wohngemeinschaft aus Studententagen wiede
 r aufleben zu lassen und ziehen nach einigen Jahrzehnten mehr oder weniger
  erfolgreichen Beruflebens wieder zusammen. Ihre neuen Nachbarn\, die Stud
 enten Barbara\, Katharina und Thorsten\, fühlen sich von den feiersüchtige
 n Althippies schon bald beim Lernen gestört\, beschweren sich über die Lär
 mbelästigung der lustigen 'Alten' und bestehen auf penible Einhaltung der 
 Hausordnung. Die Alten sind erstaunt über die Angepasstheit und Spießigkei
 t der Jungen. Es entsteht ein Generationenkonflikt der besonderen Art mit 
 allerlei Scharmützeln und das Blatt wendet sich erst\, nachdem die Alten d
 en von Rückenschmerzen und Examensstress geplagten jungen Nachbarn helfend
  unter die Arme greifen.\nEs spielen für Sie\n\nv.h.l.:\n\nThorsten - Elia
 s Haggenmüller\nAnne - Bettina Patscheider\n\nv.v.l.:\n\nJohannes - Fabian
  Wespel\nKatharina&nbsp\; - Franziska Ettmüller\nBarbara - Sarah Gieler\nE
 ddi - Florian Fick
DTSTART:20250104T200000Z
DTEND:20250104T200000Z
GEO:+47.834526;+9.874741
LOCATION:Turn- und Festhalle Immenried
ORGANIZER:
SEQUENCE:1
SUMMARY:Wintertheater 2024/25: 'Wir sind die Neuen'
TRANSP:OPAQUE
URL:https://www.theater-immenried.de/reservierung/wintertheater
END:VEVENT
END:VCALENDAR
